BEGIN:VCALENDAR
VERSION:2.0
PRODID:-//The Hong Kong Association of Speech Therapists Limited - ECPv5.9.0//NONSGML v1.0//EN
CALSCALE:GREGORIAN
METHOD:PUBLISH
X-WR-CALNAME:The Hong Kong Association of Speech Therapists Limited
X-ORIGINAL-URL:https://speechtherapy.org.hk
X-WR-CALDESC:Events for The Hong Kong Association of Speech Therapists Limited
BEGIN:VTIMEZONE
TZID:Asia/Hong_Kong
BEGIN:STANDARD
TZOFFSETFROM:+0800
TZOFFSETTO:+0800
TZNAME:HKT
DTSTART:20240101T000000
END:STANDARD
END:VTIMEZONE
BEGIN:VEVENT
DTSTART;TZID=Asia/Hong_Kong:20240510T080000
DTEND;TZID=Asia/Hong_Kong:20240511T170000
DTSTAMP:20260425T211946
CREATED:20240403T081347Z
LAST-MODIFIED:20240403T081349Z
UID:9759-1715328000-1715446800@speechtherapy.org.hk
SUMMARY:ENT Masterclass 2024: New Frontiers in Laryngology
DESCRIPTION:
URL:https://speechtherapy.org.hk/event/ent-masterclass-2024-new-frontiers-in-laryngology/
CATEGORIES:Event
END:VEVENT
END:VCALENDAR