BEGIN:VCALENDAR
VERSION:2.0
PRODID:-//The Hong Kong Association of Speech Therapists Limited - ECPv5.9.0//NONSGML v1.0//EN
CALSCALE:GREGORIAN
METHOD:PUBLISH
X-WR-CALNAME:The Hong Kong Association of Speech Therapists Limited
X-ORIGINAL-URL:https://speechtherapy.org.hk
X-WR-CALDESC:Events for The Hong Kong Association of Speech Therapists Limited
BEGIN:VTIMEZONE
TZID:Asia/Hong_Kong
BEGIN:STANDARD
TZOFFSETFROM:+0800
TZOFFSETTO:+0800
TZNAME:HKT
DTSTART:20240101T000000
END:STANDARD
END:VTIMEZONE
BEGIN:VEVENT
DTSTART;TZID=Asia/Hong_Kong:20241019T100000
DTEND;TZID=Asia/Hong_Kong:20241019T180000
DTSTAMP:20260421T182527
CREATED:20240923T135501Z
LAST-MODIFIED:20240923T135505Z
UID:12093-1729332000-1729360800@speechtherapy.org.hk
SUMMARY:Estill Voice Training - Level 2: Figures for Voice & 6 Qualities™️
DESCRIPTION:
URL:https://speechtherapy.org.hk/event/estill-voice-training-level-2-figures-for-voice-6-qualities%ef%b8%8f/
LOCATION:Room 2303\, Orient International Tower. 1018 Tai Nan West Street
CATEGORIES:Workshop
END:VEVENT
END:VCALENDAR