BEGIN:VCALENDAR
VERSION:2.0
PRODID:-//The Hong Kong Association of Speech Therapists Limited - ECPv5.9.0//NONSGML v1.0//EN
CALSCALE:GREGORIAN
METHOD:PUBLISH
X-WR-CALNAME:The Hong Kong Association of Speech Therapists Limited
X-ORIGINAL-URL:https://speechtherapy.org.hk
X-WR-CALDESC:Events for The Hong Kong Association of Speech Therapists Limited
BEGIN:VTIMEZONE
TZID:Asia/Hong_Kong
BEGIN:STANDARD
TZOFFSETFROM:+0800
TZOFFSETTO:+0800
TZNAME:HKT
DTSTART:20220101T000000
END:STANDARD
END:VTIMEZONE
BEGIN:VEVENT
DTSTART;TZID=Asia/Hong_Kong:20220430T100000
DTEND;TZID=Asia/Hong_Kong:20220430T170000
DTSTAMP:20260421T174858
CREATED:20220309T073925Z
LAST-MODIFIED:20220309T074258Z
UID:2223-1651312800-1651338000@speechtherapy.org.hk
SUMMARY:Introduction to Estill Voice Training®
DESCRIPTION:Estill Voice Training® teaches isolated control of individual anatomical structures within the voice production\nsystem. It emphasizes voluntary control of 13 parts of the vocal mechanism with a particular focus on vocal\nhealth and aesthetic freedom. When you master the basic movements of healthy vocal function\, you unlock\nendless possibilities in your voice and develop kinesthetic awareness of your patient’s voice. You will be able\nto feel what parts of structures they are using to produce the disordered voice\, so you know exactly which\nstructures to aim at and how you want them to move in order to produce a clear and healthy voice again.\nEstill Voice Training® combines explicit instruction with visual feedback\, diagrams\, video endoscopy of the\nvocal folds\, auditory sound files\, and kinesthetic exercises. It puts the scientific theory into concrete practice\nto maximize voice control for your speaking\, your singing\, and your health. \nEstill Voice Training® exercises support sustained vocal health and vitality\, and EVT principles are used in\ntherapy around the world to rehabilitate injured voices. The Figures for VoiceTM provide therapists and\npatients with a focused\, goal-based approach to treatment. It also provides a common language to\ntherapists\, medical doctors and vocal coach to communicate accurately and efficiently on voice production\nand therapy. \n  \nWorkshop 1: Introduction to Estill Voice Training® \n30 Apr 2022 (Sat) \n  \nWorkshop 2: Introduction to Figures and Application of Estill Voice Training® for Voice Therapy \n3 May 2022 (Tue) \n  \nBoth workshops are planned to be delivered in person; yet we may reschedule according to the pandemic situations. \n  \nEnrolment deadline: 8 Apr 2022 (Fri) \nEarly Bird: on or before 18 Mar 2022 (Fri) \nSign up: https://forms.gle/Ls5wagJRSRKzpRwV9 \n  \nEnrolment priority will be given to PolyU Honorary Clinical Supervisor of the Master of Speech Therapy programme. \nAll participants must have received at least two doses of COVID-19 vaccine for PolyU campus access unless they have medical proof from a medical practitioner that they are unfit for COVID-19 vaccination. \n  \nFor more details\, click HERE.
URL:https://speechtherapy.org.hk/event/introduction-to-estill-voice-training/
LOCATION:The Hong Kong Polytechnic University\, Hung Hom\, Hong Kong\, Hong Kong
CATEGORIES:Workshop
ORGANIZER;CN="The%20Hong%20Kong%20Polytechnic%20University":MAILTO:speech@polyu.edu.hk
END:VEVENT
END:VCALENDAR