BEGIN:VCALENDAR
VERSION:2.0
PRODID:-//The Hong Kong Association of Speech Therapists Limited - ECPv5.9.0//NONSGML v1.0//EN
CALSCALE:GREGORIAN
METHOD:PUBLISH
X-WR-CALNAME:The Hong Kong Association of Speech Therapists Limited
X-ORIGINAL-URL:https://speechtherapy.org.hk
X-WR-CALDESC:Events for The Hong Kong Association of Speech Therapists Limited
BEGIN:VTIMEZONE
TZID:Asia/Hong_Kong
BEGIN:STANDARD
TZOFFSETFROM:+0800
TZOFFSETTO:+0800
TZNAME:HKT
DTSTART:20210101T000000
END:STANDARD
END:VTIMEZONE
BEGIN:VEVENT
DTSTART;TZID=Asia/Hong_Kong:20211129T083000
DTEND;TZID=Asia/Hong_Kong:20211130T170000
DTSTAMP:20260425T220109
CREATED:20211008T070406Z
LAST-MODIFIED:20211008T070406Z
UID:1433-1638174600-1638291600@speechtherapy.org.hk
SUMMARY:Picture Exchange Communication System – Level 1 (Basic)
DESCRIPTION:The Picture Exchange Communication System (PECS) is an initial language-training package that is used to teach communication skills rapidly to those with limited functional speech. PECS is a unique training program that does not require lengthy prerequisite training\, and promotes communication in a social context that the user initiates. Rather than building to spontaneity\, as promoted by many other systems\, PECS begins with spontaneous actions. The sequence of PECS phases incorporates an individual’s lack of sensitivity to socially-based reinforcers. Training in PECS begins by teaching a spontaneous request and goes on to teach additional communicative functions\, such as responding to questions and commenting. An added attraction for pre-school children with autism and related disabilities is the high proportion of children who acquire independent speech after using PECS for a year or more. \nDue to limited VCF Funding available\, please sign up by 30 Sep 2021.
URL:https://speechtherapy.org.hk/event/picture-exchange-communication-system-level-1-basic/
END:VEVENT
END:VCALENDAR