BEGIN:VCALENDAR
VERSION:2.0
PRODID:-//The Hong Kong Association of Speech Therapists Limited - ECPv5.9.0//NONSGML v1.0//EN
CALSCALE:GREGORIAN
METHOD:PUBLISH
X-WR-CALNAME:The Hong Kong Association of Speech Therapists Limited
X-ORIGINAL-URL:https://speechtherapy.org.hk
X-WR-CALDESC:Events for The Hong Kong Association of Speech Therapists Limited
BEGIN:VTIMEZONE
TZID:Asia/Hong_Kong
BEGIN:STANDARD
TZOFFSETFROM:+0800
TZOFFSETTO:+0800
TZNAME:HKT
DTSTART:20210101T000000
END:STANDARD
END:VTIMEZONE
BEGIN:VEVENT
DTSTART;TZID=Asia/Hong_Kong:20211208T093000
DTEND;TZID=Asia/Hong_Kong:20211208T123000
DTSTAMP:20260420T194439
CREATED:20211126T095237Z
LAST-MODIFIED:20211126T095237Z
UID:1520-1638955800-1638966600@speechtherapy.org.hk
SUMMARY:World Swallowing Day: International Symposium & Elderly Diet Promotion
DESCRIPTION:Poster \n  \nRegistration
URL:https://speechtherapy.org.hk/event/world-swallowing-day-international-symposium-elderly-diet-promotion/
LOCATION:Online
CATEGORIES:Conference,Webinar
END:VEVENT
END:VCALENDAR