BEGIN:VCALENDAR
VERSION:2.0
PRODID:-//The Hong Kong Association of Speech Therapists Limited - ECPv5.9.0//NONSGML v1.0//EN
CALSCALE:GREGORIAN
METHOD:PUBLISH
X-WR-CALNAME:The Hong Kong Association of Speech Therapists Limited
X-ORIGINAL-URL:https://speechtherapy.org.hk
X-WR-CALDESC:Events for The Hong Kong Association of Speech Therapists Limited
BEGIN:VTIMEZONE
TZID:Asia/Hong_Kong
BEGIN:STANDARD
TZOFFSETFROM:+0800
TZOFFSETTO:+0800
TZNAME:HKT
DTSTART:20230101T000000
END:STANDARD
END:VTIMEZONE
BEGIN:VEVENT
DTSTART;TZID=Asia/Hong_Kong:20230924T100000
DTEND;TZID=Asia/Hong_Kong:20230924T130000
DTSTAMP:20260420T010242
CREATED:20230913T123015Z
LAST-MODIFIED:20230913T123310Z
UID:9164-1695549600-1695560400@speechtherapy.org.hk
SUMMARY:2023柏金遜症公眾研討會
DESCRIPTION:
URL:https://speechtherapy.org.hk/event/2023%e6%9f%8f%e9%87%91%e9%81%9c%e7%97%87%e5%85%ac%e7%9c%be%e7%a0%94%e8%a8%8e%e6%9c%83/
CATEGORIES:Conference,Online Forum
END:VEVENT
END:VCALENDAR