BEGIN:VCALENDAR
VERSION:2.0
PRODID:-//The Hong Kong Association of Speech Therapists Limited - ECPv5.9.0//NONSGML v1.0//EN
CALSCALE:GREGORIAN
METHOD:PUBLISH
X-WR-CALNAME:The Hong Kong Association of Speech Therapists Limited
X-ORIGINAL-URL:https://speechtherapy.org.hk
X-WR-CALDESC:Events for The Hong Kong Association of Speech Therapists Limited
BEGIN:VTIMEZONE
TZID:Asia/Hong_Kong
BEGIN:STANDARD
TZOFFSETFROM:+0800
TZOFFSETTO:+0800
TZNAME:HKT
DTSTART:20240101T000000
END:STANDARD
END:VTIMEZONE
BEGIN:VEVENT
DTSTART;TZID=Asia/Hong_Kong:20240306T090000
DTEND;TZID=Asia/Hong_Kong:20240308T180000
DTSTAMP:20260425T210931
CREATED:20231122T032648Z
LAST-MODIFIED:20231122T032650Z
UID:9330-1709715600-1709920800@speechtherapy.org.hk
SUMMARY:Introduction to the ADOS-2 (MODULES 1-4) & ADOS-2 Toddler Module Clinical Workshop
DESCRIPTION:Introduction\nThe ADOS® is a structured and standardized assessment to evaluate a child’s communication\, social interaction\, and play. Providing specific contexts allows observing the child’s social behaviours\, communication skills\, and repetitive behaviours. The purpose of the ADOS® is to aid in diagnosing autism spectrum disorder and is often used alongside other clinical interviews\, such as the ADI-R. Standardized toys\, materials\, and activities are used during the assessment to create opportunities for social and communicative interaction with the examiner. \n \nTarget audience: Clinical Psychologists\, Educational Psychologists\, Counselling Psychologists\, Speech Therapists\, Occupational Therapists\, Psychiatrists\, Paediatricians \n\n\n\n\nWorkshop Details\n\nPart 1: Introduction to ADOS-2 Module 1-4\nThe course aims to cater to clinicians and researchers who have an interest in utilizing the ADOS®-2 in their work with individuals diagnosed with autism. It serves as an introductory session to familiarize participants with the ADOS®-2 as an assessment tool\, and also serves as an initial step towards achieving reliability in administering the ADOS®-2. The course includes group lectures\, demonstrations\, scoring exercises\, and provides access to videos showcasing live ADOS®-2 administrations.\n\nPart 2: ADOS®-2 Toddler Module Introductory Course\nThis course focuses specifically on the Toddler Module\, providing participants with lectures\, DVD demonstrations\, and discussions related to the administration and scoring of the ADOS®-2. It is specifically tailored for researchers and clinicians who already possess a background in formal testing and have experience working with young children\, both with and without autism. Participants are required to have prior training in modules 1 to 4 of the ADOS® / ADOS®-2.\n\nDate: 6 March 2024 – 8 March 2024\nTime: HKT 9:00am – 6:00pm\nVenue: HKFYG 25/F Multifunction Hall\, 21 Pak Fuk Road\, North Point\nMedium: English \nCourse Fee:\n$8500 (Early bird offer before 31 December 2023)\n$9500 (Regular)\nSpecial offer for DCoP members:\n$8000 (Early bird offer before 31 December 2023)\n$8500 (Regular)\nCapacity: 50 (First come first serve)
URL:https://speechtherapy.org.hk/event/introduction-to-the-ados-2-modules-1-4-ados-2-toddler-module-clinical-workshop/
LOCATION:HKFYG 25/F Multifunction Hall\, 21 Pak Fuk Road\, North Point
CATEGORIES:Workshop
END:VEVENT
END:VCALENDAR