BEGIN:VCALENDAR
VERSION:2.0
PRODID:-//The Hong Kong Association of Speech Therapists Limited - ECPv5.9.0//NONSGML v1.0//EN
CALSCALE:GREGORIAN
METHOD:PUBLISH
X-WR-CALNAME:The Hong Kong Association of Speech Therapists Limited
X-ORIGINAL-URL:https://speechtherapy.org.hk
X-WR-CALDESC:Events for The Hong Kong Association of Speech Therapists Limited
BEGIN:VTIMEZONE
TZID:Asia/Hong_Kong
BEGIN:STANDARD
TZOFFSETFROM:+0800
TZOFFSETTO:+0800
TZNAME:HKT
DTSTART:20240101T000000
END:STANDARD
END:VTIMEZONE
BEGIN:VEVENT
DTSTART;TZID=Asia/Hong_Kong:20240328T190000
DTEND;TZID=Asia/Hong_Kong:20240328T203000
DTSTAMP:20260425T210937
CREATED:20240312T152440Z
LAST-MODIFIED:20240313T110234Z
UID:9515-1711652400-1711657800@speechtherapy.org.hk
SUMMARY:Exploring Neurodiversity in Speech-Language Therapy
DESCRIPTION:  \nWebinar Outline \n06:45 – 07:00p.m.: Registration \n07:00 – 08:00p.m.: Presentation \n08:00 – 08:30p.m.: Q&A Session \n  \nWebinar Fee and Registration \nRegistration Deadline: 25th March\, 2024 \nRegistration is considered successful after participant receives a confirmation email from HKAST \n\n\n\n\n\n\n\n\n\n\n \n\n\n\n \n\n\n\n 
URL:https://speechtherapy.org.hk/event/exploring-neurodiversity-in-speech-language-therapy/
CATEGORIES:Webinar
END:VEVENT
END:VCALENDAR