BEGIN:VCALENDAR
VERSION:2.0
PRODID:-//The Hong Kong Association of Speech Therapists Limited - ECPv5.9.0//NONSGML v1.0//EN
CALSCALE:GREGORIAN
METHOD:PUBLISH
X-WR-CALNAME:The Hong Kong Association of Speech Therapists Limited
X-ORIGINAL-URL:https://speechtherapy.org.hk
X-WR-CALDESC:Events for The Hong Kong Association of Speech Therapists Limited
BEGIN:VTIMEZONE
TZID:Asia/Hong_Kong
BEGIN:STANDARD
TZOFFSETFROM:+0800
TZOFFSETTO:+0800
TZNAME:HKT
DTSTART:20240101T000000
END:STANDARD
END:VTIMEZONE
BEGIN:VEVENT
DTSTART;TZID=Asia/Hong_Kong:20240427T093000
DTEND;TZID=Asia/Hong_Kong:20240427T103000
DTSTAMP:20260425T193940
CREATED:20240321T084642Z
LAST-MODIFIED:20240409T063146Z
UID:9640-1714210200-1714213800@speechtherapy.org.hk
SUMMARY:Care Food Nutrition Challenges and Opportunities
DESCRIPTION:Webinar Outline \n09:15 – 09:30 a.m.: Registration \n09:30 – 10:30 a.m.: Presentation \n10:30 – 10:45 a.m.: Q&A Session   \n  \nWebinar Fee and Registration \nRegistration Deadline: 25th Apr\, 2024 \nRegistration is considered successful after participant receives a confirmation email from HKAST
URL:https://speechtherapy.org.hk/event/care-food-nutrition-challenges-and-opportunities/
CATEGORIES:Webinar
END:VEVENT
END:VCALENDAR