BEGIN:VCALENDAR
VERSION:2.0
PRODID:-//The Hong Kong Association of Speech Therapists Limited - ECPv5.9.0//NONSGML v1.0//EN
CALSCALE:GREGORIAN
METHOD:PUBLISH
X-WR-CALNAME:The Hong Kong Association of Speech Therapists Limited
X-ORIGINAL-URL:https://speechtherapy.org.hk
X-WR-CALDESC:Events for The Hong Kong Association of Speech Therapists Limited
BEGIN:VTIMEZONE
TZID:Asia/Hong_Kong
BEGIN:STANDARD
TZOFFSETFROM:+0800
TZOFFSETTO:+0800
TZNAME:HKT
DTSTART:20240101T000000
END:STANDARD
END:VTIMEZONE
BEGIN:VEVENT
DTSTART;TZID=Asia/Hong_Kong:20240812T090000
DTEND;TZID=Asia/Hong_Kong:20240816T180000
DTSTAMP:20260424T003523
CREATED:20240613T014447Z
LAST-MODIFIED:20240613T014726Z
UID:10223-1723453200-1723831200@speechtherapy.org.hk
SUMMARY:Feuerstein Instrumental Enrichment (Standard) 1 [IE-1 (of 3)]
DESCRIPTION:Please click here for more information: IE-1 \n\n\n\n\n\n\n\n\n\n 
URL:https://speechtherapy.org.hk/event/feuerstein-instrumental-enrichment-standard-1-ie-1-of-3/
CATEGORIES:Workshop
END:VEVENT
END:VCALENDAR