BEGIN:VCALENDAR
VERSION:2.0
PRODID:-//The Hong Kong Association of Speech Therapists Limited - ECPv5.9.0//NONSGML v1.0//EN
CALSCALE:GREGORIAN
METHOD:PUBLISH
X-WR-CALNAME:The Hong Kong Association of Speech Therapists Limited
X-ORIGINAL-URL:https://speechtherapy.org.hk
X-WR-CALDESC:Events for The Hong Kong Association of Speech Therapists Limited
BEGIN:VTIMEZONE
TZID:Asia/Hong_Kong
BEGIN:STANDARD
TZOFFSETFROM:+0800
TZOFFSETTO:+0800
TZNAME:HKT
DTSTART:20240101T000000
END:STANDARD
END:VTIMEZONE
BEGIN:VEVENT
DTSTART;TZID=Asia/Hong_Kong:20240831T140000
DTEND;TZID=Asia/Hong_Kong:20240831T170000
DTSTAMP:20260423T225756
CREATED:20240729T050004Z
LAST-MODIFIED:20240903T104625Z
UID:10447-1725112800-1725123600@speechtherapy.org.hk
SUMMARY:Ultrasound For Swallowing Examination (31 Aug Workshop)
DESCRIPTION:Please note that the workshop is exclusive to full members only. \nWebinar Registration  \nRegistration Deadline: 15th Aug\, 2024  \nRegistration is considered successful after participant receives a confirmation email from HKAST
URL:https://speechtherapy.org.hk/event/ultrasound-for-swallowing-examination-31-aug-workshop/
LOCATION:The Hong Kong Polytechnic University\, Hung Hom\, Hong Kong\, Hong Kong
CATEGORIES:Workshop
END:VEVENT
END:VCALENDAR