BEGIN:VCALENDAR
VERSION:2.0
PRODID:-//The Hong Kong Association of Speech Therapists Limited - ECPv5.9.0//NONSGML v1.0//EN
CALSCALE:GREGORIAN
METHOD:PUBLISH
X-WR-CALNAME:The Hong Kong Association of Speech Therapists Limited
X-ORIGINAL-URL:https://speechtherapy.org.hk
X-WR-CALDESC:Events for The Hong Kong Association of Speech Therapists Limited
BEGIN:VTIMEZONE
TZID:Asia/Hong_Kong
BEGIN:STANDARD
TZOFFSETFROM:+0800
TZOFFSETTO:+0800
TZNAME:HKT
DTSTART:20240101T000000
END:STANDARD
END:VTIMEZONE
BEGIN:VEVENT
DTSTART;VALUE=DATE:20240927
DTEND;VALUE=DATE:20240929
DTSTAMP:20260423T230417
CREATED:20240924T131040Z
LAST-MODIFIED:20240925T085855Z
UID:12096-1727395200-1727567999@speechtherapy.org.hk
SUMMARY:“Chinese Language Assessment Scales - Toddlers and Preschoolers” Seminar 2024
DESCRIPTION:
URL:https://speechtherapy.org.hk/event/chinese-language-assessment-scales-toddlers-and-preschoolers-seminar-2024/
CATEGORIES:Seminar
END:VEVENT
END:VCALENDAR