BEGIN:VCALENDAR
VERSION:2.0
PRODID:-//The Hong Kong Association of Speech Therapists Limited - ECPv5.9.0//NONSGML v1.0//EN
CALSCALE:GREGORIAN
METHOD:PUBLISH
X-WR-CALNAME:The Hong Kong Association of Speech Therapists Limited
X-ORIGINAL-URL:https://speechtherapy.org.hk
X-WR-CALDESC:Events for The Hong Kong Association of Speech Therapists Limited
BEGIN:VTIMEZONE
TZID:Asia/Hong_Kong
BEGIN:STANDARD
TZOFFSETFROM:+0800
TZOFFSETTO:+0800
TZNAME:HKT
DTSTART:20240101T000000
END:STANDARD
END:VTIMEZONE
BEGIN:VEVENT
DTSTART;TZID=Asia/Hong_Kong:20241026T090000
DTEND;TZID=Asia/Hong_Kong:20241027T170000
DTSTAMP:20260423T225821
CREATED:20240819T011239Z
LAST-MODIFIED:20241018T155905Z
UID:11971-1729933200-1730048400@speechtherapy.org.hk
SUMMARY:Speech & Language Preverbal Skills Therapy
DESCRIPTION:Please click here for more information. \n\n\n\n\n\n\n\n\n\n 
URL:https://speechtherapy.org.hk/event/speech-language-preverbal-skills-therapy-2/
LOCATION:First Commercial Building\, 33-35 Leighton Road\, Causeway Bay\, HONG KONG. (The Hong Kong Management Association)
CATEGORIES:Workshop
END:VEVENT
BEGIN:VEVENT
DTSTART;TZID=Asia/Hong_Kong:20241026T093000
DTEND;TZID=Asia/Hong_Kong:20241026T120000
DTSTAMP:20260423T225821
CREATED:20241001T031712Z
LAST-MODIFIED:20241001T031805Z
UID:12112-1729935000-1729944000@speechtherapy.org.hk
SUMMARY:發揮跨團隊力量 支援低口語自閉生
DESCRIPTION: 
URL:https://speechtherapy.org.hk/event/%e7%99%bc%e6%8f%ae%e8%b7%a8%e5%9c%98%e9%9a%8a%e5%8a%9b%e9%87%8f-%e6%94%af%e6%8f%b4%e4%bd%8e%e5%8f%a3%e8%aa%9e%e8%87%aa%e9%96%89%e7%94%9f/
LOCATION:匡智元朗晨曦學校
CATEGORIES:Event
END:VEVENT
END:VCALENDAR