BEGIN:VCALENDAR
VERSION:2.0
PRODID:-//The Hong Kong Association of Speech Therapists Limited - ECPv5.9.0//NONSGML v1.0//EN
CALSCALE:GREGORIAN
METHOD:PUBLISH
X-WR-CALNAME:The Hong Kong Association of Speech Therapists Limited
X-ORIGINAL-URL:https://speechtherapy.org.hk
X-WR-CALDESC:Events for The Hong Kong Association of Speech Therapists Limited
BEGIN:VTIMEZONE
TZID:Asia/Hong_Kong
BEGIN:STANDARD
TZOFFSETFROM:+0800
TZOFFSETTO:+0800
TZNAME:HKT
DTSTART:20240101T000000
END:STANDARD
END:VTIMEZONE
BEGIN:VEVENT
DTSTART;TZID=Asia/Hong_Kong:20241127T091500
DTEND;TZID=Asia/Hong_Kong:20241127T174500
DTSTAMP:20260423T180435
CREATED:20240819T010310Z
LAST-MODIFIED:20240819T013443Z
UID:11968-1732698900-1732729500@speechtherapy.org.hk
SUMMARY:Symposium on Early Childhood Intervention 2024
DESCRIPTION:Click here for more information. \n\n\n\n\n\n\n\n\n\n 
URL:https://speechtherapy.org.hk/event/symposium-on-early-childhood-intervention-2024/
LOCATION:BGCA Headquarter\, 3 Lockhart Road\, Hong Kong
CATEGORIES:Conference
END:VEVENT
END:VCALENDAR