BEGIN:VCALENDAR
VERSION:2.0
PRODID:-//The Hong Kong Association of Speech Therapists Limited - ECPv5.9.0//NONSGML v1.0//EN
CALSCALE:GREGORIAN
METHOD:PUBLISH
X-WR-CALNAME:The Hong Kong Association of Speech Therapists Limited
X-ORIGINAL-URL:https://speechtherapy.org.hk
X-WR-CALDESC:Events for The Hong Kong Association of Speech Therapists Limited
BEGIN:VTIMEZONE
TZID:Asia/Hong_Kong
BEGIN:STANDARD
TZOFFSETFROM:+0800
TZOFFSETTO:+0800
TZNAME:HKT
DTSTART:20250101T000000
END:STANDARD
END:VTIMEZONE
BEGIN:VEVENT
DTSTART;TZID=Asia/Hong_Kong:20250224T180000
DTEND;TZID=Asia/Hong_Kong:20250225T213000
DTSTAMP:20260423T125235
CREATED:20250128T063113Z
LAST-MODIFIED:20250128T063820Z
UID:12888-1740420000-1740519000@speechtherapy.org.hk
SUMMARY:Palin PCI Training Course
DESCRIPTION: 
URL:https://speechtherapy.org.hk/event/palin-pci-training-course/
CATEGORIES:Webinar
END:VEVENT
END:VCALENDAR