BEGIN:VCALENDAR
VERSION:2.0
PRODID:-//The Hong Kong Association of Speech Therapists Limited - ECPv5.9.0//NONSGML v1.0//EN
CALSCALE:GREGORIAN
METHOD:PUBLISH
X-WR-CALNAME:The Hong Kong Association of Speech Therapists Limited
X-ORIGINAL-URL:https://speechtherapy.org.hk
X-WR-CALDESC:Events for The Hong Kong Association of Speech Therapists Limited
BEGIN:VTIMEZONE
TZID:Asia/Hong_Kong
BEGIN:STANDARD
TZOFFSETFROM:+0800
TZOFFSETTO:+0800
TZNAME:HKT
DTSTART:20250101T000000
END:STANDARD
END:VTIMEZONE
BEGIN:VEVENT
DTSTART;TZID=Asia/Hong_Kong:20250303T093000
DTEND;TZID=Asia/Hong_Kong:20250304T173000
DTSTAMP:20260423T125108
CREATED:20240914T045013Z
LAST-MODIFIED:20240914T045015Z
UID:12052-1740994200-1741109400@speechtherapy.org.hk
SUMMARY:Supporting Infant and Child Development through Ayres Sensory Integration®
DESCRIPTION:Please find more information here
URL:https://speechtherapy.org.hk/event/supporting-infant-and-child-development-through-ayres-sensory-integration/
CATEGORIES:Workshop
END:VEVENT
END:VCALENDAR