BEGIN:VCALENDAR
VERSION:2.0
PRODID:-//The Hong Kong Association of Speech Therapists Limited - ECPv5.9.0//NONSGML v1.0//EN
CALSCALE:GREGORIAN
METHOD:PUBLISH
X-WR-CALNAME:The Hong Kong Association of Speech Therapists Limited
X-ORIGINAL-URL:https://speechtherapy.org.hk
X-WR-CALDESC:Events for The Hong Kong Association of Speech Therapists Limited
BEGIN:VTIMEZONE
TZID:Asia/Hong_Kong
BEGIN:STANDARD
TZOFFSETFROM:+0800
TZOFFSETTO:+0800
TZNAME:HKT
DTSTART:20250101T000000
END:STANDARD
END:VTIMEZONE
BEGIN:VEVENT
DTSTART;TZID=Asia/Hong_Kong:20250709T093000
DTEND;TZID=Asia/Hong_Kong:20250710T173000
DTSTAMP:20260423T060744
CREATED:20250416T051144Z
LAST-MODIFIED:20250416T051147Z
UID:13053-1752053400-1752168600@speechtherapy.org.hk
SUMMARY:Assessing Play ToP to TOES
DESCRIPTION:Click here for more information
URL:https://speechtherapy.org.hk/event/assessing-play-top-to-toes/
CATEGORIES:Workshop
END:VEVENT
END:VCALENDAR