BEGIN:VCALENDAR
VERSION:2.0
PRODID:-//The Hong Kong Association of Speech Therapists Limited - ECPv5.9.0//NONSGML v1.0//EN
CALSCALE:GREGORIAN
METHOD:PUBLISH
X-WR-CALNAME:The Hong Kong Association of Speech Therapists Limited
X-ORIGINAL-URL:https://speechtherapy.org.hk
X-WR-CALDESC:Events for The Hong Kong Association of Speech Therapists Limited
BEGIN:VTIMEZONE
TZID:Asia/Hong_Kong
BEGIN:STANDARD
TZOFFSETFROM:+0800
TZOFFSETTO:+0800
TZNAME:HKT
DTSTART:20250101T000000
END:STANDARD
END:VTIMEZONE
BEGIN:VEVENT
DTSTART;TZID=Asia/Hong_Kong:20250711T093000
DTEND;TZID=Asia/Hong_Kong:20250711T173000
DTSTAMP:20260423T061628
CREATED:20250128T063718Z
LAST-MODIFIED:20250128T063729Z
UID:12892-1752226200-1752255000@speechtherapy.org.hk
SUMMARY:Build-to-PlayTM Program Professional Training
DESCRIPTION:Click here for more information.
URL:https://speechtherapy.org.hk/event/build-to-playtm-program-professional-training-5/
LOCATION:11/F\, Genesis\, 33-35 Wong Chuk Hang Road
CATEGORIES:Workshop
END:VEVENT
END:VCALENDAR