BEGIN:VCALENDAR
VERSION:2.0
PRODID:-//The Hong Kong Association of Speech Therapists Limited - ECPv5.9.0//NONSGML v1.0//EN
CALSCALE:GREGORIAN
METHOD:PUBLISH
X-WR-CALNAME:The Hong Kong Association of Speech Therapists Limited
X-ORIGINAL-URL:https://speechtherapy.org.hk
X-WR-CALDESC:Events for The Hong Kong Association of Speech Therapists Limited
BEGIN:VTIMEZONE
TZID:Asia/Hong_Kong
BEGIN:STANDARD
TZOFFSETFROM:+0800
TZOFFSETTO:+0800
TZNAME:HKT
DTSTART:20250101T000000
END:STANDARD
END:VTIMEZONE
BEGIN:VEVENT
DTSTART;TZID=Asia/Hong_Kong:20250714T090000
DTEND;TZID=Asia/Hong_Kong:20250718T180000
DTSTAMP:20260423T061628
CREATED:20250401T093411Z
LAST-MODIFIED:20250401T094024Z
UID:13020-1752483600-1752861600@speechtherapy.org.hk
SUMMARY:Feuerstein Instrumental Enrichment Basic Workshop (FIE Basic-1)
DESCRIPTION:Click here for more information
URL:https://speechtherapy.org.hk/event/feuerstein-instrumental-enrichment-basic-workshop-fie-basic-1/
LOCATION:APED of Heep Hong Society\, Units L\,11/F\, MG Tower\, 133 Hoi Bun Road\, Kwun Tong\, Kowloon
CATEGORIES:Workshop
END:VEVENT
END:VCALENDAR