BEGIN:VCALENDAR
VERSION:2.0
PRODID:-//The Hong Kong Association of Speech Therapists Limited - ECPv5.9.0//NONSGML v1.0//EN
CALSCALE:GREGORIAN
METHOD:PUBLISH
X-WR-CALNAME:The Hong Kong Association of Speech Therapists Limited
X-ORIGINAL-URL:https://speechtherapy.org.hk
X-WR-CALDESC:Events for The Hong Kong Association of Speech Therapists Limited
BEGIN:VTIMEZONE
TZID:Asia/Hong_Kong
BEGIN:STANDARD
TZOFFSETFROM:+0800
TZOFFSETTO:+0800
TZNAME:HKT
DTSTART:20250101T000000
END:STANDARD
END:VTIMEZONE
BEGIN:VEVENT
DTSTART;TZID=Asia/Hong_Kong:20250809T090000
DTEND;TZID=Asia/Hong_Kong:20250810T173000
DTSTAMP:20260423T041647
CREATED:20250507T064919Z
LAST-MODIFIED:20250507T064925Z
UID:13105-1754730000-1754847000@speechtherapy.org.hk
SUMMARY:SLPS Therapy
DESCRIPTION:Please click here for more information
URL:https://speechtherapy.org.hk/event/slps-therapy/
LOCATION:First Commercial Building\, 33-35 Leighton Road\, Causeway Bay\, HONG KONG. (The Hong Kong Management Association)
CATEGORIES:Workshop
END:VEVENT
END:VCALENDAR