BEGIN:VCALENDAR
VERSION:2.0
PRODID:-//The Hong Kong Association of Speech Therapists Limited - ECPv5.9.0//NONSGML v1.0//EN
CALSCALE:GREGORIAN
METHOD:PUBLISH
X-WR-CALNAME:The Hong Kong Association of Speech Therapists Limited
X-ORIGINAL-URL:https://speechtherapy.org.hk
X-WR-CALDESC:Events for The Hong Kong Association of Speech Therapists Limited
BEGIN:VTIMEZONE
TZID:Asia/Hong_Kong
BEGIN:STANDARD
TZOFFSETFROM:+0800
TZOFFSETTO:+0800
TZNAME:HKT
DTSTART:20250101T000000
END:STANDARD
END:VTIMEZONE
BEGIN:VEVENT
DTSTART;TZID=Asia/Hong_Kong:20251108T080000
DTEND;TZID=Asia/Hong_Kong:20251116T113000
DTSTAMP:20260422T232626
CREATED:20250801T121107Z
LAST-MODIFIED:20250821T051049Z
UID:13680-1762588800-1763292600@speechtherapy.org.hk
SUMMARY:Project ImPACT Advanced course: Parent Coaching of Social Communication to Children with Autism & Other Development Delays
DESCRIPTION:Date: 8\, 9\, 15\, 16 November 2025 Hong Kong \nTime: 8:00am – 11:30 each day\, HK Time \nEvent category:  Online Workshop plus e-Learning \nWebsite: https://www.eventbrite.com/e/advanced-course-hong-kong-october-2025-tickets-1406456963639?aff=erelpanelorg \nOrganizer: Dvortcsak Speech & Language Service\, Inc. \nVenue: Virtual \nFees: US$750 \nClick here for more information   \n\n\n\n\n\n\n\n\n\n 
URL:https://speechtherapy.org.hk/event/project-impact-advanced-course-parent-coaching-of-social-communication-to-children-with-autism-other-development-delays/
CATEGORIES:Online Workshop
END:VEVENT
END:VCALENDAR