BEGIN:VCALENDAR
VERSION:2.0
PRODID:-//The Hong Kong Association of Speech Therapists Limited - ECPv5.9.0//NONSGML v1.0//EN
CALSCALE:GREGORIAN
METHOD:PUBLISH
X-WR-CALNAME:The Hong Kong Association of Speech Therapists Limited
X-ORIGINAL-URL:https://speechtherapy.org.hk
X-WR-CALDESC:Events for The Hong Kong Association of Speech Therapists Limited
BEGIN:VTIMEZONE
TZID:Asia/Hong_Kong
BEGIN:STANDARD
TZOFFSETFROM:+0800
TZOFFSETTO:+0800
TZNAME:HKT
DTSTART:20250101T000000
END:STANDARD
END:VTIMEZONE
BEGIN:VEVENT
DTSTART;TZID=Asia/Hong_Kong:20251220T190000
DTEND;TZID=Asia/Hong_Kong:20251220T213000
DTSTAMP:20260422T213418
CREATED:20251202T070014Z
LAST-MODIFIED:20251220T080631Z
UID:16916-1766257200-1766266200@speechtherapy.org.hk
SUMMARY:2025-26 Mentorship Programme - 1st Mentorship Meeting Dinner
DESCRIPTION: 
URL:https://speechtherapy.org.hk/event/2025-26-mentorship-programme-1st-mentorship-meeting-dinner/
LOCATION:zone 3\, Alibi\, 5/F Cordis Hong Kong
END:VEVENT
END:VCALENDAR