BEGIN:VCALENDAR
VERSION:2.0
PRODID:-//The Hong Kong Association of Speech Therapists Limited - ECPv5.9.0//NONSGML v1.0//EN
CALSCALE:GREGORIAN
METHOD:PUBLISH
X-WR-CALNAME:The Hong Kong Association of Speech Therapists Limited
X-ORIGINAL-URL:https://speechtherapy.org.hk
X-WR-CALDESC:Events for The Hong Kong Association of Speech Therapists Limited
BEGIN:VTIMEZONE
TZID:Asia/Hong_Kong
BEGIN:STANDARD
TZOFFSETFROM:+0800
TZOFFSETTO:+0800
TZNAME:HKT
DTSTART:20250101T000000
END:STANDARD
END:VTIMEZONE
BEGIN:VEVENT
DTSTART;TZID=Asia/Hong_Kong:20250523T134500
DTEND;TZID=Asia/Hong_Kong:20250523T180000
DTSTAMP:20260423T043706
CREATED:20250409T040030Z
LAST-MODIFIED:20250409T040033Z
UID:13033-1748007900-1748023200@speechtherapy.org.hk
SUMMARY:HKU Continuing Professional Development Event
DESCRIPTION:Please click here for more information
URL:https://speechtherapy.org.hk/event/hku-continuing-professional-development-event/
LOCATION:Rayson Huang Theatre\, HKU
CATEGORIES:Event
END:VEVENT
END:VCALENDAR