BEGIN:VCALENDAR
VERSION:2.0
PRODID:-//The Hong Kong Association of Speech Therapists Limited - ECPv5.9.0//NONSGML v1.0//EN
CALSCALE:GREGORIAN
METHOD:PUBLISH
X-WR-CALNAME:The Hong Kong Association of Speech Therapists Limited
X-ORIGINAL-URL:https://speechtherapy.org.hk
X-WR-CALDESC:Events for The Hong Kong Association of Speech Therapists Limited
BEGIN:VTIMEZONE
TZID:Asia/Hong_Kong
BEGIN:STANDARD
TZOFFSETFROM:+0800
TZOFFSETTO:+0800
TZNAME:HKT
DTSTART:20260101T000000
END:STANDARD
END:VTIMEZONE
BEGIN:VEVENT
DTSTART;TZID=Asia/Hong_Kong:20260124T110000
DTEND;TZID=Asia/Hong_Kong:20260124T130000
DTSTAMP:20260420T211120
CREATED:20251230T055740Z
LAST-MODIFIED:20251230T055742Z
UID:17464-1769252400-1769259600@speechtherapy.org.hk
SUMMARY:樂善堂楊小玲言語治療中心言語治療教材發布會
DESCRIPTION:
URL:https://speechtherapy.org.hk/event/%e6%a8%82%e5%96%84%e5%a0%82%e6%a5%8a%e5%b0%8f%e7%8e%b2%e8%a8%80%e8%aa%9e%e6%b2%bb%e7%99%82%e4%b8%ad%e5%bf%83%e8%a8%80%e8%aa%9e%e6%b2%bb%e7%99%82%e6%95%99%e6%9d%90%e7%99%bc%e5%b8%83%e6%9c%83/
CATEGORIES:Event
END:VEVENT
END:VCALENDAR