BEGIN:VCALENDAR
VERSION:2.0
PRODID:-//The Hong Kong Association of Speech Therapists Limited - ECPv5.9.0//NONSGML v1.0//EN
CALSCALE:GREGORIAN
METHOD:PUBLISH
X-WR-CALNAME:The Hong Kong Association of Speech Therapists Limited
X-ORIGINAL-URL:https://speechtherapy.org.hk
X-WR-CALDESC:Events for The Hong Kong Association of Speech Therapists Limited
BEGIN:VTIMEZONE
TZID:Asia/Hong_Kong
BEGIN:STANDARD
TZOFFSETFROM:+0800
TZOFFSETTO:+0800
TZNAME:HKT
DTSTART:20250101T000000
END:STANDARD
END:VTIMEZONE
BEGIN:VEVENT
DTSTART;TZID=Asia/Hong_Kong:20250618T190000
DTEND;TZID=Asia/Hong_Kong:20250618T210000
DTSTAMP:20260423T194522
CREATED:20250516T030854Z
LAST-MODIFIED:20250617T114616Z
UID:13169-1750273200-1750280400@speechtherapy.org.hk
SUMMARY:[Webinar] Assessment and Intervention of Chinese Primary Progressive Aphasia
DESCRIPTION:Workshop Registration \nRegistration Deadline: 7 Jun 2025\, 23:59 pm \nRegistration is considered successful after participant receives a confirmation email from HKAST \n\n\n\n\n\n\n\n\n\n\n 
URL:https://speechtherapy.org.hk/event/webinar-assessment-and-intervention-of-chinese-primary-progressive-aphasia/
CATEGORIES:Webinar
END:VEVENT
END:VCALENDAR