BEGIN:VCALENDAR
VERSION:2.0
PRODID:-//The Hong Kong Association of Speech Therapists Limited - ECPv5.9.0//NONSGML v1.0//EN
CALSCALE:GREGORIAN
METHOD:PUBLISH
X-WR-CALNAME:The Hong Kong Association of Speech Therapists Limited
X-ORIGINAL-URL:https://speechtherapy.org.hk
X-WR-CALDESC:Events for The Hong Kong Association of Speech Therapists Limited
BEGIN:VTIMEZONE
TZID:Asia/Hong_Kong
BEGIN:STANDARD
TZOFFSETFROM:+0800
TZOFFSETTO:+0800
TZNAME:HKT
DTSTART:20250101T000000
END:STANDARD
END:VTIMEZONE
BEGIN:VEVENT
DTSTART;TZID=Asia/Hong_Kong:20251016T190000
DTEND;TZID=Asia/Hong_Kong:20251016T200000
DTSTAMP:20260419T205122
CREATED:20250916T061306Z
LAST-MODIFIED:20250918T021448Z
UID:16600-1760641200-1760644800@speechtherapy.org.hk
SUMMARY:Support for Children with Developmental Language Disorder (DLD): Lessons Learned and Moving Forward
DESCRIPTION:
URL:https://speechtherapy.org.hk/event/support-for-children-with-developmental-language-disorder-dld-lessons-learned-and-moving-forward/
CATEGORIES:Webinar
END:VEVENT
END:VCALENDAR