BEGIN:VCALENDAR
VERSION:2.0
PRODID:-//The Hong Kong Association of Speech Therapists Limited - ECPv5.9.0//NONSGML v1.0//EN
CALSCALE:GREGORIAN
METHOD:PUBLISH
X-WR-CALNAME:The Hong Kong Association of Speech Therapists Limited
X-ORIGINAL-URL:https://speechtherapy.org.hk
X-WR-CALDESC:Events for The Hong Kong Association of Speech Therapists Limited
BEGIN:VTIMEZONE
TZID:Asia/Hong_Kong
BEGIN:STANDARD
TZOFFSETFROM:+0800
TZOFFSETTO:+0800
TZNAME:HKT
DTSTART:20240101T000000
END:STANDARD
END:VTIMEZONE
BEGIN:VEVENT
DTSTART;VALUE=DATE:20240930
DTEND;VALUE=DATE:20241003
DTSTAMP:20260420T155054
CREATED:20240716T145006Z
LAST-MODIFIED:20240716T145006Z
UID:10414-1727654400-1727913599@speechtherapy.org.hk
SUMMARY:Introduction to PROMPT Technique
DESCRIPTION:For more information: HKOMR_Introduction to PROMPT Tehcnique_30Sep-2Oct \n\n\n\n\n\n\n\n\n\n 
URL:https://speechtherapy.org.hk/event/introduction-to-prompt-technique-4/
CATEGORIES:Workshop
END:VEVENT
END:VCALENDAR