BEGIN:VCALENDAR
VERSION:2.0
PRODID:-//The Hong Kong Association of Speech Therapists Limited - ECPv5.9.0//NONSGML v1.0//EN
CALSCALE:GREGORIAN
METHOD:PUBLISH
X-WR-CALNAME:The Hong Kong Association of Speech Therapists Limited
X-ORIGINAL-URL:https://speechtherapy.org.hk
X-WR-CALDESC:Events for The Hong Kong Association of Speech Therapists Limited
BEGIN:VTIMEZONE
TZID:Asia/Hong_Kong
BEGIN:STANDARD
TZOFFSETFROM:+0800
TZOFFSETTO:+0800
TZNAME:HKT
DTSTART:20240101T000000
END:STANDARD
END:VTIMEZONE
BEGIN:VEVENT
DTSTART;VALUE=DATE:20241004
DTEND;VALUE=DATE:20241007
DTSTAMP:20260420T154937
CREATED:20240924T132340Z
LAST-MODIFIED:20240924T132342Z
UID:12099-1728000000-1728259199@speechtherapy.org.hk
SUMMARY:Bridging PROMPT Technique to Intervention
DESCRIPTION:For more information: HKOMR_Bridging_PROMPT_Technique_to_Intervention_4_6OCT2024
URL:https://speechtherapy.org.hk/event/bridging-prompt-technique-to-intervention-2/
CATEGORIES:Workshop
END:VEVENT
END:VCALENDAR