BEGIN:VCALENDAR
VERSION:2.0
PRODID:-//The Hong Kong Association of Speech Therapists Limited - ECPv5.9.0//NONSGML v1.0//EN
CALSCALE:GREGORIAN
METHOD:PUBLISH
X-WR-CALNAME:The Hong Kong Association of Speech Therapists Limited
X-ORIGINAL-URL:https://speechtherapy.org.hk
X-WR-CALDESC:Events for The Hong Kong Association of Speech Therapists Limited
BEGIN:VTIMEZONE
TZID:Asia/Hong_Kong
BEGIN:STANDARD
TZOFFSETFROM:+0800
TZOFFSETTO:+0800
TZNAME:HKT
DTSTART:20240101T000000
END:STANDARD
END:VTIMEZONE
BEGIN:VEVENT
DTSTART;TZID=Asia/Hong_Kong:20241023T090000
DTEND;TZID=Asia/Hong_Kong:20241025T170000
DTSTAMP:20260420T155131
CREATED:20240819T025829Z
LAST-MODIFIED:20240819T025832Z
UID:11974-1729674000-1729875600@speechtherapy.org.hk
SUMMARY:3-day workshop Introduction to PROMPT
DESCRIPTION:Click here for more information.
URL:https://speechtherapy.org.hk/event/3-day-workshop-introduction-to-prompt/
LOCATION:Hong Kong Scout Center (8 Austin Road\, Tsim Sha Tsui\, Kowloon)
CATEGORIES:Workshop
END:VEVENT
BEGIN:VEVENT
DTSTART;TZID=Asia/Hong_Kong:20241024T083000
DTEND;TZID=Asia/Hong_Kong:20241025T173000
DTSTAMP:20260420T155131
CREATED:20240808T092530Z
LAST-MODIFIED:20240923T123834Z
UID:11900-1729758600-1729877400@speechtherapy.org.hk
SUMMARY:The Lidcombe Program Workshop 2024
DESCRIPTION:Early bird application deadline has been extended to 10 Oct. 
URL:https://speechtherapy.org.hk/event/the-lidcombe-program-workshop-2024/
LOCATION:First Commercial Building\, 33-35 Leighton Road\, Causeway Bay\, HONG KONG. (The Hong Kong Management Association)
CATEGORIES:Workshop
END:VEVENT
END:VCALENDAR