BEGIN:VCALENDAR
VERSION:2.0
PRODID:-//The Hong Kong Association of Speech Therapists Limited - ECPv5.9.0//NONSGML v1.0//EN
CALSCALE:GREGORIAN
METHOD:PUBLISH
X-WR-CALNAME:The Hong Kong Association of Speech Therapists Limited
X-ORIGINAL-URL:https://speechtherapy.org.hk
X-WR-CALDESC:Events for The Hong Kong Association of Speech Therapists Limited
BEGIN:VTIMEZONE
TZID:Asia/Hong_Kong
BEGIN:STANDARD
TZOFFSETFROM:+0800
TZOFFSETTO:+0800
TZNAME:HKT
DTSTART:20240101T000000
END:STANDARD
END:VTIMEZONE
BEGIN:VEVENT
DTSTART;TZID=Asia/Hong_Kong:20241027T090000
DTEND;TZID=Asia/Hong_Kong:20241029T170000
DTSTAMP:20260420T155109
CREATED:20240829T010544Z
LAST-MODIFIED:20240829T010546Z
UID:12009-1730019600-1730221200@speechtherapy.org.hk
SUMMARY:3-day workshop on Sensory Processing Disorders for Speech Therapists
DESCRIPTION:
URL:https://speechtherapy.org.hk/event/3-day-workshop-on-sensory-processing-disorders-for-speech-therapists/
LOCATION:Hong Kong Scout Center (8 Austin Road\, Tsim Sha Tsui\, Kowloon)
CATEGORIES:Workshop
END:VEVENT
END:VCALENDAR