BEGIN:VCALENDAR
VERSION:2.0
PRODID:-//The Hong Kong Association of Speech Therapists Limited - ECPv5.9.0//NONSGML v1.0//EN
CALSCALE:GREGORIAN
METHOD:PUBLISH
X-WR-CALNAME:The Hong Kong Association of Speech Therapists Limited
X-ORIGINAL-URL:https://speechtherapy.org.hk
X-WR-CALDESC:Events for The Hong Kong Association of Speech Therapists Limited
BEGIN:VTIMEZONE
TZID:Asia/Hong_Kong
BEGIN:STANDARD
TZOFFSETFROM:+0800
TZOFFSETTO:+0800
TZNAME:HKT
DTSTART:20240101T000000
END:STANDARD
END:VTIMEZONE
BEGIN:VEVENT
DTSTART;TZID=Asia/Hong_Kong:20241117T100000
DTEND;TZID=Asia/Hong_Kong:20241117T170000
DTSTAMP:20260420T173506
CREATED:20240914T080502Z
LAST-MODIFIED:20240914T080552Z
UID:12059-1731837600-1731862800@speechtherapy.org.hk
SUMMARY:Teacher Talk™ Training A: Encouraging Language Development in Early Childhood Settings
DESCRIPTION: 
URL:https://speechtherapy.org.hk/event/encouraging-language-development-in-early-childhood-settings/
LOCATION:Unit 607 Welland Building 368 Queen’s Road Central Sheung Wan\, Hong Kong
CATEGORIES:Workshop
END:VEVENT
END:VCALENDAR