BEGIN:VCALENDAR
VERSION:2.0
PRODID:-//The Hong Kong Association of Speech Therapists Limited - ECPv5.9.0//NONSGML v1.0//EN
CALSCALE:GREGORIAN
METHOD:PUBLISH
X-WR-CALNAME:The Hong Kong Association of Speech Therapists Limited
X-ORIGINAL-URL:https://speechtherapy.org.hk
X-WR-CALDESC:Events for The Hong Kong Association of Speech Therapists Limited
BEGIN:VTIMEZONE
TZID:Asia/Hong_Kong
BEGIN:STANDARD
TZOFFSETFROM:+0800
TZOFFSETTO:+0800
TZNAME:HKT
DTSTART:20240101T000000
END:STANDARD
END:VTIMEZONE
BEGIN:VEVENT
DTSTART;TZID=Asia/Hong_Kong:20241123T100000
DTEND;TZID=Asia/Hong_Kong:20241123T170000
DTSTAMP:20260420T172446
CREATED:20240914T080701Z
LAST-MODIFIED:20240914T080703Z
UID:12063-1732356000-1732381200@speechtherapy.org.hk
SUMMARY:Teacher Talk™ Training B: Let Language Lead the Way to Literacy
DESCRIPTION:
URL:https://speechtherapy.org.hk/event/teacher-talk-training-b-let-language-lead-the-way-to-literacy/
LOCATION:Unit 607 Welland Building 368 Queen’s Road Central Sheung Wan\, Hong Kong
CATEGORIES:Workshop
END:VEVENT
BEGIN:VEVENT
DTSTART;TZID=Asia/Hong_Kong:20241123T133000
DTEND;TZID=Asia/Hong_Kong:20241123T163000
DTSTAMP:20260420T172446
CREATED:20241022T055734Z
LAST-MODIFIED:20241022T055737Z
UID:12315-1732368600-1732379400@speechtherapy.org.hk
SUMMARY:"Accelerating Reading Ability" Training Workshop and Practicum
DESCRIPTION:
URL:https://speechtherapy.org.hk/event/accelerating-reading-ability-training-workshop-and-practicum/
LOCATION:Joyance\, Unit 06-09\, 17/F\, Telford House\, 16 Wang Hoi Road\, Kowloon Bay
CATEGORIES:Workshop
END:VEVENT
END:VCALENDAR