BEGIN:VCALENDAR
VERSION:2.0
PRODID:-//The Hong Kong Association of Speech Therapists Limited - ECPv5.9.0//NONSGML v1.0//EN
CALSCALE:GREGORIAN
METHOD:PUBLISH
X-WR-CALNAME:The Hong Kong Association of Speech Therapists Limited
X-ORIGINAL-URL:https://speechtherapy.org.hk
X-WR-CALDESC:Events for The Hong Kong Association of Speech Therapists Limited
BEGIN:VTIMEZONE
TZID:Asia/Hong_Kong
BEGIN:STANDARD
TZOFFSETFROM:+0800
TZOFFSETTO:+0800
TZNAME:HKT
DTSTART:20240101T000000
END:STANDARD
END:VTIMEZONE
BEGIN:VEVENT
DTSTART;TZID=Asia/Hong_Kong:20241213T083000
DTEND;TZID=Asia/Hong_Kong:20241214T170000
DTSTAMP:20260420T191834
CREATED:20241211T115824Z
LAST-MODIFIED:20241211T115827Z
UID:12564-1734078600-1734195600@speechtherapy.org.hk
SUMMARY:Intensive course on aural re/habilitation (AR) for young children with deafness and hard of hearing & Public lecture series (via ZOOM)
DESCRIPTION:Click here for more information.
URL:https://speechtherapy.org.hk/event/intensive-course-on-aural-re-habilitation-ar-for-young-children-with-deafness-and-hard-of-hearing-public-lecture-series-via-zoom/
LOCATION:國立臺北護理健康大學 語言治療與聽力學系 臺北市北投區明德路 365 號
CATEGORIES:Webinar,Workshop
END:VEVENT
END:VCALENDAR