BEGIN:VCALENDAR
VERSION:2.0
PRODID:-//The Hong Kong Association of Speech Therapists Limited - ECPv5.9.0//NONSGML v1.0//EN
CALSCALE:GREGORIAN
METHOD:PUBLISH
X-WR-CALNAME:The Hong Kong Association of Speech Therapists Limited
X-ORIGINAL-URL:https://speechtherapy.org.hk
X-WR-CALDESC:Events for The Hong Kong Association of Speech Therapists Limited
BEGIN:VTIMEZONE
TZID:Asia/Hong_Kong
BEGIN:STANDARD
TZOFFSETFROM:+0800
TZOFFSETTO:+0800
TZNAME:HKT
DTSTART:20240101T000000
END:STANDARD
END:VTIMEZONE
BEGIN:VEVENT
DTSTART;TZID=Asia/Hong_Kong:20241218T090000
DTEND;TZID=Asia/Hong_Kong:20241219T180000
DTSTAMP:20260420T190840
CREATED:20241019T043801Z
LAST-MODIFIED:20241019T043803Z
UID:12235-1734512400-1734631200@speechtherapy.org.hk
SUMMARY:BECKMAN ORAL MOTOR ASSESSMENT AND INTERVENTION© COURSE
DESCRIPTION:Please click here for more information.
URL:https://speechtherapy.org.hk/event/beckman-oral-motor-assessment-and-intervention-course-4/
LOCATION:Room 706\, Peninsula Tower\, No. 538 Castle Peak Road\, Kowloon\, HONG KONG
CATEGORIES:Workshop
END:VEVENT
END:VCALENDAR