BEGIN:VCALENDAR
VERSION:2.0
PRODID:-//The Hong Kong Association of Speech Therapists Limited - ECPv5.9.0//NONSGML v1.0//EN
CALSCALE:GREGORIAN
METHOD:PUBLISH
X-WR-CALNAME:The Hong Kong Association of Speech Therapists Limited
X-ORIGINAL-URL:https://speechtherapy.org.hk
X-WR-CALDESC:Events for The Hong Kong Association of Speech Therapists Limited
BEGIN:VTIMEZONE
TZID:Asia/Hong_Kong
BEGIN:STANDARD
TZOFFSETFROM:+0800
TZOFFSETTO:+0800
TZNAME:HKT
DTSTART:20250101T000000
END:STANDARD
END:VTIMEZONE
BEGIN:VEVENT
DTSTART;TZID=Asia/Hong_Kong:20250109T080000
DTEND;TZID=Asia/Hong_Kong:20250109T170000
DTSTAMP:20260420T204843
CREATED:20240819T070122Z
LAST-MODIFIED:20240819T070852Z
UID:11982-1736409600-1736442000@speechtherapy.org.hk
SUMMARY:Management on dysphagia\, fussy eating and medication administration in babies and children by Dr. Julie Cichero
DESCRIPTION:Click here to enroll \n \n\n\n\n\n\n\n\n\n\n 
URL:https://speechtherapy.org.hk/event/management-on-dysphagia-fussy-eating-and-medication-administration-in-babies-and-children-by-dr-julie-cichero/
LOCATION:Hong Kong Scout Centennial Building (Wan Chai)
CATEGORIES:Online Workshop,Workshop
ORGANIZER;CN="ENT%20Laser%20Hearing%20and%20Speech%20Therapy%20Centre":MAILTO:entlaser.training@gmail.com
END:VEVENT
END:VCALENDAR