BEGIN:VCALENDAR
VERSION:2.0
PRODID:-//The Hong Kong Association of Speech Therapists Limited - ECPv5.9.0//NONSGML v1.0//EN
CALSCALE:GREGORIAN
METHOD:PUBLISH
X-WR-CALNAME:The Hong Kong Association of Speech Therapists Limited
X-ORIGINAL-URL:https://speechtherapy.org.hk
X-WR-CALDESC:Events for The Hong Kong Association of Speech Therapists Limited
BEGIN:VTIMEZONE
TZID:Asia/Hong_Kong
BEGIN:STANDARD
TZOFFSETFROM:+0800
TZOFFSETTO:+0800
TZNAME:HKT
DTSTART:20250101T000000
END:STANDARD
END:VTIMEZONE
BEGIN:VEVENT
DTSTART;TZID=Asia/Hong_Kong:20250113T080000
DTEND;TZID=Asia/Hong_Kong:20250113T170000
DTSTAMP:20260420T204153
CREATED:20241231T060437Z
LAST-MODIFIED:20241231T060743Z
UID:12634-1736755200-1736787600@speechtherapy.org.hk
SUMMARY:[HANDS-ON LAB. D] Management of Dysphagia: Diagnostic Use of Cervical Auscultation by Dr. Julie Cichero
DESCRIPTION:Click here to enroll  \n \n 
URL:https://speechtherapy.org.hk/event/hands-on-lab-c-management-of-dysphagia-diagnostic-use-of-cervical-auscultation-by-dr-julie-cichero-2/
LOCATION:Hong Kong Scout Centennial Building (Wan Chai)
CATEGORIES:Workshop
ORGANIZER;CN="ENT%20Laser%20Hearing%20and%20Speech%20Therapy%20Centre":MAILTO:entlaser.training@gmail.com
END:VEVENT
END:VCALENDAR