BEGIN:VCALENDAR
VERSION:2.0
PRODID:-//The Hong Kong Association of Speech Therapists Limited - ECPv5.9.0//NONSGML v1.0//EN
CALSCALE:GREGORIAN
METHOD:PUBLISH
X-WR-CALNAME:The Hong Kong Association of Speech Therapists Limited
X-ORIGINAL-URL:https://speechtherapy.org.hk
X-WR-CALDESC:Events for The Hong Kong Association of Speech Therapists Limited
BEGIN:VTIMEZONE
TZID:Asia/Hong_Kong
BEGIN:STANDARD
TZOFFSETFROM:+0800
TZOFFSETTO:+0800
TZNAME:HKT
DTSTART:20250101T000000
END:STANDARD
END:VTIMEZONE
BEGIN:VEVENT
DTSTART;TZID=Asia/Hong_Kong:20250118T100000
DTEND;TZID=Asia/Hong_Kong:20250118T130000
DTSTAMP:20260420T204145
CREATED:20241124T095839Z
LAST-MODIFIED:20250123T145724Z
UID:12415-1737194400-1737205200@speechtherapy.org.hk
SUMMARY:Entering the World of Gender Affirming Voice Therapy: Theories and Techniques (Webinar and Workshop)
DESCRIPTION:  \n\n\n\n \n \n  \nWebinar & Workshop Registration  \nRegistration Deadline: 8th Jan\, 2025 \nRegistration is considered successful after participant receives a confirmation email from HKAST \n\n\n\n\n\n\n\n\n\n\n 
URL:https://speechtherapy.org.hk/event/entering-the-world-of-gender-affirming-voice-therapy-theories-and-techniques-webinar-workshop/
LOCATION:The Hong Kong Polytechnic University\, Hung Hom\, Hong Kong\, Hong Kong
CATEGORIES:Webinar,Workshop
END:VEVENT
END:VCALENDAR