BEGIN:VCALENDAR
VERSION:2.0
PRODID:-//The Hong Kong Association of Speech Therapists Limited - ECPv5.9.0//NONSGML v1.0//EN
CALSCALE:GREGORIAN
METHOD:PUBLISH
X-WR-CALNAME:The Hong Kong Association of Speech Therapists Limited
X-ORIGINAL-URL:https://speechtherapy.org.hk
X-WR-CALDESC:Events for The Hong Kong Association of Speech Therapists Limited
BEGIN:VTIMEZONE
TZID:Asia/Hong_Kong
BEGIN:STANDARD
TZOFFSETFROM:+0800
TZOFFSETTO:+0800
TZNAME:HKT
DTSTART:20250101T000000
END:STANDARD
END:VTIMEZONE
BEGIN:VEVENT
DTSTART;TZID=Asia/Hong_Kong:20250123T090000
DTEND;TZID=Asia/Hong_Kong:20250125T170000
DTSTAMP:20260420T210112
CREATED:20241019T043416Z
LAST-MODIFIED:20241019T043418Z
UID:12233-1737622800-1737824400@speechtherapy.org.hk
SUMMARY:Introduction to PROMPT Technique 3-Day Workshop
DESCRIPTION:
URL:https://speechtherapy.org.hk/event/introduction-to-prompt-technique-3-day-workshop-3/
LOCATION:Metro Workspace (Central II – Wellington Street)
CATEGORIES:Workshop
END:VEVENT
BEGIN:VEVENT
DTSTART;TZID=Asia/Hong_Kong:20250123T183000
DTEND;TZID=Asia/Hong_Kong:20250123T213000
DTSTAMP:20260420T210112
CREATED:20241125T064250Z
LAST-MODIFIED:20241125T064252Z
UID:12435-1737657000-1737667800@speechtherapy.org.hk
SUMMARY:Hong Kong Graded Character Naming Test (HKGCNT) Provider Certification Workshop for Speech Therapists 《中文讀字測試》工作坊
DESCRIPTION:https://www.polyu.edu.hk/cbs/st/en/news/2024/hkgcnt-provider-certification-workshop-for-speech-therapists
URL:https://speechtherapy.org.hk/event/hong-kong-graded-character-naming-test-hkgcnt-provider-certification-workshop-for-speech-therapists-%e3%80%8a%e4%b8%ad%e6%96%87%e8%ae%80%e5%ad%97%e6%b8%ac%e8%a9%a6%e3%80%8b%e5%b7%a5%e4%bd%9c-2/
LOCATION:The Hong Kong Polytechnic University\, Hung Hom\, Hong Kong\, Hong Kong
CATEGORIES:Workshop
ORGANIZER;CN="The%20Hong%20Kong%20Polytechnic%20University":MAILTO:speech@polyu.edu.hk
END:VEVENT
END:VCALENDAR