BEGIN:VCALENDAR
VERSION:2.0
PRODID:-//The Hong Kong Association of Speech Therapists Limited - ECPv5.9.0//NONSGML v1.0//EN
CALSCALE:GREGORIAN
METHOD:PUBLISH
X-WR-CALNAME:The Hong Kong Association of Speech Therapists Limited
X-ORIGINAL-URL:https://speechtherapy.org.hk
X-WR-CALDESC:Events for The Hong Kong Association of Speech Therapists Limited
BEGIN:VTIMEZONE
TZID:Asia/Hong_Kong
BEGIN:STANDARD
TZOFFSETFROM:+0800
TZOFFSETTO:+0800
TZNAME:HKT
DTSTART:20250101T000000
END:STANDARD
END:VTIMEZONE
BEGIN:VEVENT
DTSTART;TZID=Asia/Hong_Kong:20250212T090000
DTEND;TZID=Asia/Hong_Kong:20250215T180000
DTSTAMP:20260422T165228
CREATED:20240808T092931Z
LAST-MODIFIED:20240808T093008Z
UID:11902-1739350800-1739642400@speechtherapy.org.hk
SUMMARY:When Children Won’t Eat: Picky Eaters Versus Problem Feeders Assessment and Treatment Using the SOS Approach to Feeding
DESCRIPTION:Please find more information here. \n\n\n\n\n\n\n\n\n\n 
URL:https://speechtherapy.org.hk/event/when-children-wont-eat-picky-eaters-versus-problem-feeders-assessment-and-treatment-using-the-sos-approach-to-feeding/
LOCATION:Regal Riverside Hotel  34-36 Tai Chung Kiu Road\, Sha Tin\, HONG KONG
CATEGORIES:Workshop
END:VEVENT
END:VCALENDAR