BEGIN:VCALENDAR
VERSION:2.0
PRODID:-//The Hong Kong Association of Speech Therapists Limited - ECPv5.9.0//NONSGML v1.0//EN
CALSCALE:GREGORIAN
METHOD:PUBLISH
X-WR-CALNAME:The Hong Kong Association of Speech Therapists Limited
X-ORIGINAL-URL:https://speechtherapy.org.hk
X-WR-CALDESC:Events for The Hong Kong Association of Speech Therapists Limited
BEGIN:VTIMEZONE
TZID:Asia/Hong_Kong
BEGIN:STANDARD
TZOFFSETFROM:+0800
TZOFFSETTO:+0800
TZNAME:HKT
DTSTART:20250101T000000
END:STANDARD
END:VTIMEZONE
BEGIN:VEVENT
DTSTART;TZID=Asia/Hong_Kong:20250221T070000
DTEND;TZID=Asia/Hong_Kong:20250221T083000
DTSTAMP:20260420T225102
CREATED:20250109T085136Z
LAST-MODIFIED:20250109T085137Z
UID:12781-1740121200-1740126600@speechtherapy.org.hk
SUMMARY:Social StoriesTM 10.4 Webinar (Session 3)
DESCRIPTION:Click here for more information.
URL:https://speechtherapy.org.hk/event/social-storiestm-10-4-webinar-session-3/
CATEGORIES:Workshop
END:VEVENT
END:VCALENDAR