BEGIN:VCALENDAR
VERSION:2.0
PRODID:-//The Hong Kong Association of Speech Therapists Limited - ECPv5.9.0//NONSGML v1.0//EN
CALSCALE:GREGORIAN
METHOD:PUBLISH
X-WR-CALNAME:The Hong Kong Association of Speech Therapists Limited
X-ORIGINAL-URL:https://speechtherapy.org.hk
X-WR-CALDESC:Events for The Hong Kong Association of Speech Therapists Limited
BEGIN:VTIMEZONE
TZID:Asia/Hong_Kong
BEGIN:STANDARD
TZOFFSETFROM:+0800
TZOFFSETTO:+0800
TZNAME:HKT
DTSTART:20250101T000000
END:STANDARD
END:VTIMEZONE
BEGIN:VEVENT
DTSTART;TZID=Asia/Hong_Kong:20250804T090000
DTEND;TZID=Asia/Hong_Kong:20250806T170000
DTSTAMP:20260423T021512
CREATED:20250401T093609Z
LAST-MODIFIED:20250401T093837Z
UID:13022-1754298000-1754499600@speechtherapy.org.hk
SUMMARY:Davis Stepping Stones & Davis Stepping Stones 2 Workshops [DSS & DSS2]
DESCRIPTION:Click here for more information.
URL:https://speechtherapy.org.hk/event/davis-stepping-stones-davis-stepping-stones-2-workshops-dss-dss2/
LOCATION:Heep Hong Society APED
CATEGORIES:Workshop
END:VEVENT
END:VCALENDAR