BEGIN:VCALENDAR
VERSION:2.0
PRODID:-//The Hong Kong Association of Speech Therapists Limited - ECPv5.9.0//NONSGML v1.0//EN
CALSCALE:GREGORIAN
METHOD:PUBLISH
X-WR-CALNAME:The Hong Kong Association of Speech Therapists Limited
X-ORIGINAL-URL:https://speechtherapy.org.hk
X-WR-CALDESC:Events for The Hong Kong Association of Speech Therapists Limited
BEGIN:VTIMEZONE
TZID:Asia/Hong_Kong
BEGIN:STANDARD
TZOFFSETFROM:+0800
TZOFFSETTO:+0800
TZNAME:HKT
DTSTART:20250101T000000
END:STANDARD
END:VTIMEZONE
BEGIN:VEVENT
DTSTART;TZID=Asia/Hong_Kong:20251025T090000
DTEND;TZID=Asia/Hong_Kong:20251026T173000
DTSTAMP:20260423T053042
CREATED:20250821T051450Z
LAST-MODIFIED:20250821T051453Z
UID:13794-1761382800-1761499800@speechtherapy.org.hk
SUMMARY:OROFACIAL MYOFUNCTIONAL THERAPY:   SPEECH THERAPISTS’ PERSPECTIVE
DESCRIPTION:Click here for more information
URL:https://speechtherapy.org.hk/event/orofacial-myofunctional-therapy-speech-therapists-perspective-2/
LOCATION:First Commercial Building\, 33-35\, Leighton Road\, Causeway Bay\, HONG KONG.
CATEGORIES:Workshop
END:VEVENT
END:VCALENDAR